BEGIN:VCALENDAR
VERSION:2.0
PRODID:-//Rachel&#039;s Place Childcare Centre - Nurturing Childcare in West End - ECPv4.9.0//NONSGML v1.0//EN
CALSCALE:GREGORIAN
METHOD:PUBLISH
X-WR-CALNAME:Rachel&#039;s Place Childcare Centre - Nurturing Childcare in West End
X-ORIGINAL-URL:https://www.rachelsplace.com.au
X-WR-CALDESC:Events for Rachel&#039;s Place Childcare Centre - Nurturing Childcare in West End
BEGIN:VEVENT
DTSTART;VALUE=DATE:20190920
DTEND;VALUE=DATE:20190921
DTSTAMP:20200302T103016
CREATED:20190502T182254Z
LAST-MODIFIED:20190502T182254Z
UID:2722-1568937600-1569023999@www.rachelsplace.com.au
SUMMARY:End of Term 3
DESCRIPTION:
URL:https://www.rachelsplace.com.au/event/end-of-term-3/
END:VEVENT
END:VCALENDAR