BEGIN:VCALENDAR
VERSION:2.0
PRODID:-//Rachel&#039;s Place Childcare Centre - Nurturing Childcare in West End - ECPv4.9.0//NONSGML v1.0//EN
CALSCALE:GREGORIAN
METHOD:PUBLISH
X-WR-CALNAME:Rachel&#039;s Place Childcare Centre - Nurturing Childcare in West End
X-ORIGINAL-URL:https://www.rachelsplace.com.au
X-WR-CALDESC:Events for Rachel&#039;s Place Childcare Centre - Nurturing Childcare in West End
BEGIN:VEVENT
DTSTART;TZID=Australia/Brisbane:20191208T150000
DTEND;TZID=Australia/Brisbane:20191208T170000
DTSTAMP:20200302T103036
CREATED:20191120T232739Z
LAST-MODIFIED:20191120T234054Z
UID:2865-1575817200-1575824400@www.rachelsplace.com.au
SUMMARY:End of Year Celebration BBQ
DESCRIPTION:
URL:https://www.rachelsplace.com.au/event/end-of-year-celebration-bbq/
LOCATION:orleigh park\, 42 Hill end Terrace
END:VEVENT
END:VCALENDAR