BEGIN:VCALENDAR
VERSION:2.0
PRODID:-//Rachel&#039;s Place Childcare Centre - Nurturing Childcare in West End - ECPv4.9.0//NONSGML v1.0//EN
CALSCALE:GREGORIAN
METHOD:PUBLISH
X-WR-CALNAME:Rachel&#039;s Place Childcare Centre - Nurturing Childcare in West End
X-ORIGINAL-URL:https://www.rachelsplace.com.au
X-WR-CALDESC:Events for Rachel&#039;s Place Childcare Centre - Nurturing Childcare in West End
BEGIN:VEVENT
DTSTART;TZID=Australia/Brisbane:20190717T180000
DTEND;TZID=Australia/Brisbane:20190717T200000
DTSTAMP:20200302T102959
CREATED:20190706T204905Z
LAST-MODIFIED:20190706T204905Z
UID:2785-1563386400-1563393600@www.rachelsplace.com.au
SUMMARY:Kindergarten Parent Info Night
DESCRIPTION:Come along to find out about our kindergarten program. \n
URL:https://www.rachelsplace.com.au/event/kindergarten-parent-info-night/
LOCATION:Rachel’s Place\, 111 Vulture Street\, West End\, QLD\, 4101\, Australia
END:VEVENT
END:VCALENDAR